BEGIN:VCALENDAR
VERSION:2.0
PRODID:spatie/icalendar-generator
DESCRIPTION:Events from Normanview Residents Group
X-WR-CALDESC:Events from Normanview Residents Group
REFRESH-INTERVAL;VALUE=DURATION:PT1440M
X-PUBLISHED-TTL:PT1440M
BEGIN:VTIMEZONE
TZID:America/Regina
BEGIN:STANDARD
DTSTART:20240812T130000Z
TZOFFSETFROM:-0600
TZOFFSETTO:-0600
END:STANDARD
END:VTIMEZONE
BEGIN:VTIMEZONE
TZID:UTC
BEGIN:STANDARD
DTSTART:20250725T083522Z
TZOFFSETFROM:+0000
TZOFFSETTO:+0000
END:STANDARD
END:VTIMEZONE
BEGIN:VEVENT
UID:681-72
DTSTAMP:20260421T083522Z
SUMMARY:Floor Curling NWLC
LOCATION:
ORGANIZER;CN=nrgiadmin:MAILTO:jasonkong@me.com
RRULE:FREQ=WEEKLY;UNTIL=20250531T000000Z
DTSTART;TZID=America/Regina:20250509T130000
DTEND;TZID=America/Regina:20250509T150000
X-ALT-DESC;FMTTYPE=TEXT/HTML:Floor Curling Until May 30 NWLC 1-3pm
CATEGORIES:Program
URL;VALUE=URI:https://nrgi.ca/mc-events/floor-curling-nwlc/?mc_id=681
METHOD:PUBLISH
END:VEVENT
END:VCALENDAR